BEGIN:VCALENDAR
VERSION:2.0
PRODID:-//Converse University - ECPv6.15.17.1//NONSGML v1.0//EN
CALSCALE:GREGORIAN
METHOD:PUBLISH
X-WR-CALNAME:Converse University
X-ORIGINAL-URL:https://www.converse.edu
X-WR-CALDESC:Events for Converse University
REFRESH-INTERVAL;VALUE=DURATION:PT1H
X-Robots-Tag:noindex
X-PUBLISHED-TTL:PT1H
BEGIN:VTIMEZONE
TZID:America/New_York
BEGIN:DAYLIGHT
TZOFFSETFROM:-0500
TZOFFSETTO:-0400
TZNAME:EDT
DTSTART:20210314T070000
END:DAYLIGHT
BEGIN:STANDARD
TZOFFSETFROM:-0400
TZOFFSETTO:-0500
TZNAME:EST
DTSTART:20211107T060000
END:STANDARD
BEGIN:DAYLIGHT
TZOFFSETFROM:-0500
TZOFFSETTO:-0400
TZNAME:EDT
DTSTART:20220313T070000
END:DAYLIGHT
BEGIN:STANDARD
TZOFFSETFROM:-0400
TZOFFSETTO:-0500
TZNAME:EST
DTSTART:20221106T060000
END:STANDARD
BEGIN:DAYLIGHT
TZOFFSETFROM:-0500
TZOFFSETTO:-0400
TZNAME:EDT
DTSTART:20230312T070000
END:DAYLIGHT
BEGIN:STANDARD
TZOFFSETFROM:-0400
TZOFFSETTO:-0500
TZNAME:EST
DTSTART:20231105T060000
END:STANDARD
END:VTIMEZONE
BEGIN:VEVENT
DTSTART;TZID=America/New_York:20220427T190000
DTEND;TZID=America/New_York:20220427T200000
DTSTAMP:20260421T083249
CREATED:20220307T181307Z
LAST-MODIFIED:20220411T202334Z
UID:10000923-1651086000-1651089600@www.converse.edu
SUMMARY:Design Your Life
DESCRIPTION:Please note the event date is now April 27\, 2022. \nHow might we build a life worth living while leaving room to dream? \nAs a student at Converse\, Nariman Gathers ’15 designed a life & charted a path forward through social entrepreneurship\, innovation\, and design thinking. Learn how to apply design thinking to build an inspired\, well-lived\, & joyful life. \nJoin Converse University’s Center for Career Development for a night of changed perspective fueled by approaching things from a different perspective. \nKindly note this event’s COVID protocols: Optional masking; limited seating to support physical distancing. \n\nNARIMAN GATHERS does process. They turn the mushiness of humaning (being a person) into discrete\, discernible task flow. Nariman has used this superpower to help design communications identity at Code2040\, build and sustain distributed teams at GitHub\, manage incident communications at Slack\, and tackle some of the nation’s most pressing issues with the ACLU. Currently\, they helm the design ops program at Plaid and teach design process at Stanford’s D.School . They are a proud plant dad\, a mental health advocate\, and will cry about friend-shaped objects. \nCheck out Nariman’s Stanford TEDx
URL:https://www.converse.edu/event/design-your-life/
LOCATION:Daniel Recital Hall\, 580 East Main Street\, Spartanburg\, SC\, 29302\, United States
CATEGORIES:Center for Professional Development,General Events,Student Development & Success
ATTACH;FMTTYPE=image/jpeg:https://www.converse.edu/wp-content/uploads/2022/03/Design-Your-Life-Nariman-Gathers-Converse.jpg
ORGANIZER;CN="Tori McLean Good":MAILTO:tori.good@converse.edu
GEO:34.957844;-81.919712
X-APPLE-STRUCTURED-LOCATION;VALUE=URI;X-ADDRESS=Daniel Recital Hall 580 East Main Street Spartanburg SC 29302 United States;X-APPLE-RADIUS=500;X-TITLE=580 East Main Street:geo:-81.919712,34.957844
END:VEVENT
END:VCALENDAR