BEGIN:VCALENDAR
VERSION:2.0
PRODID:-//Converse University - ECPv6.15.17.1//NONSGML v1.0//EN
CALSCALE:GREGORIAN
METHOD:PUBLISH
X-WR-CALNAME:Converse University
X-ORIGINAL-URL:https://www.converse.edu
X-WR-CALDESC:Events for Converse University
REFRESH-INTERVAL;VALUE=DURATION:PT1H
X-Robots-Tag:noindex
X-PUBLISHED-TTL:PT1H
BEGIN:VTIMEZONE
TZID:America/New_York
BEGIN:DAYLIGHT
TZOFFSETFROM:-0500
TZOFFSETTO:-0400
TZNAME:EDT
DTSTART:20230312T070000
END:DAYLIGHT
BEGIN:STANDARD
TZOFFSETFROM:-0400
TZOFFSETTO:-0500
TZNAME:EST
DTSTART:20231105T060000
END:STANDARD
BEGIN:DAYLIGHT
TZOFFSETFROM:-0500
TZOFFSETTO:-0400
TZNAME:EDT
DTSTART:20240310T070000
END:DAYLIGHT
BEGIN:STANDARD
TZOFFSETFROM:-0400
TZOFFSETTO:-0500
TZNAME:EST
DTSTART:20241103T060000
END:STANDARD
BEGIN:DAYLIGHT
TZOFFSETFROM:-0500
TZOFFSETTO:-0400
TZNAME:EDT
DTSTART:20250309T070000
END:DAYLIGHT
BEGIN:STANDARD
TZOFFSETFROM:-0400
TZOFFSETTO:-0500
TZNAME:EST
DTSTART:20251102T060000
END:STANDARD
END:VTIMEZONE
BEGIN:VEVENT
DTSTART;TZID=America/New_York:20240308T110000
DTEND;TZID=America/New_York:20240308T110000
DTSTAMP:20260420T022614
CREATED:20240206T214531Z
LAST-MODIFIED:20240229T160438Z
UID:10001213-1709895600-1709895600@www.converse.edu
SUMMARY:2024 Women's Leadership Speaker Series
DESCRIPTION:Hosted by the Converse College for Women\, this free event features keynote speaker Ricaye Harris and alumna Niki Castle Coffman ’06. \nJoin us Friday\, March 8\, 2024\, at 11 am in Daniel Recital Hall. \nBrunch reception to follow.
URL:https://www.converse.edu/event/2024-womens-leadership-speaker-series/
LOCATION:Daniel Recital Hall\, 580 East Main Street\, Spartanburg\, SC\, 29302\, United States
CATEGORIES:Conferences & Workshops,Cultural Events,General Events,Humanities
ATTACH;FMTTYPE=image/jpeg:https://www.converse.edu/wp-content/uploads/2024/02/CCW-Speaker-Series-2024-converse.jpg
ORGANIZER;CN="Converse College for Women":MAILTO:ccw@converse.edu
GEO:34.957844;-81.919712
X-APPLE-STRUCTURED-LOCATION;VALUE=URI;X-ADDRESS=Daniel Recital Hall 580 East Main Street Spartanburg SC 29302 United States;X-APPLE-RADIUS=500;X-TITLE=580 East Main Street:geo:-81.919712,34.957844
END:VEVENT
BEGIN:VEVENT
DTSTART;TZID=America/New_York:20240311T090000
DTEND;TZID=America/New_York:20240324T170000
DTSTAMP:20260420T022614
CREATED:20231117T152302Z
LAST-MODIFIED:20240402T182727Z
UID:10001192-1710147600-1711299600@www.converse.edu
SUMMARY:2024 Converse Emerging Young Artists Juried Exhibition & Reception
DESCRIPTION:The Converse Emerging Young Artists Exhibition provides a venue to recognize exemplary artworks of high school students\, to help them begin to prepare for a major in art while still in grades 9-12. This opportunity also introduces them to the Converse University Department of Art\, Design & Letters\, and the variety of programs offered. \nAccepted submissions will be exhibited in Milliken Art Gallery beginning Monday\, March 11 through Saturday\, March 23\, 2024. Gallery hours vary; please contact Kathryn Boucher\, the Director of Milliken Art Gallery\, for details. \n\nThe Reception and Award Ceremony will be held on Saturday\, March 23\, 2024\, from 1-3 pm. Award winners announced at 2 pm. \nArtwork featured above: 2023 winner for Best of Show – “Daydreaming” by Evie Driggs\, 10th grade\, The Fine Arts Center; Kelly King\, teacher.
URL:https://www.converse.edu/event/2024-converse-emerging-young-artists-juried-exhibition-reception/
LOCATION:Milliken Art Gallery\, 580 East Main Street\, Spartanburg\, SC\, 29302\, United States
CATEGORIES:Art,Cultural Events,General Events,Humanities
ATTACH;FMTTYPE=image/jpeg:https://www.converse.edu/wp-content/uploads/2023/11/2024-Young-artists-Converse-competition.jpg
ORGANIZER;CN="Kathryn Boucher":MAILTO:kathryn.boucher@converse.edu
GEO:34.9583079382;-81.9190111889
X-APPLE-STRUCTURED-LOCATION;VALUE=URI;X-ADDRESS=Milliken Art Gallery 580 East Main Street Spartanburg SC 29302 United States;X-APPLE-RADIUS=500;X-TITLE=580 East Main Street:geo:-81.9190111889,34.9583079382
END:VEVENT
BEGIN:VEVENT
DTSTART;TZID=America/New_York:20240319T160000
DTEND;TZID=America/New_York:20240319T160000
DTSTAMP:20260420T022614
CREATED:20240205T192825Z
LAST-MODIFIED:20240205T194511Z
UID:10001209-1710864000-1710864000@www.converse.edu
SUMMARY:Converse Visiting Writer: Lisa Hase-Jackson
DESCRIPTION:Join us for a reading by Lisa Hase-Jackson. Hase-Jackson is the winner of the Converse MFA Alumni Book Prize for her book Insomnia in Another Town\, published by Clemson University Press as part of the Clemson-Converse Literature Series. Lisa is the author of the poetry collections Flint & Fire\, recipient of the Hillary Tham Poetry Prize\, and Insomnia in Another Town. \nThe reading is free and open to the public. Hosted by the BFA in Creative and Professional Writing. \nThis event will be held in Room 201 in the Milliken Fine Arts Building. \nThe Converse MFA Alumni Prize is sponsored by Clemson University Press\, the Converse Low Residency MFA in Creative Writing\, and Truphae\, a retailer of fine writing instruments and accessories.
URL:https://www.converse.edu/event/converse-visiting-writer-reading-lisa-hase-jackson/
LOCATION:Converse University\, 580 East Main Street\, Spartanburg\, SC\, 29302\, United States
CATEGORIES:Cultural Events,General Events,Humanities,Visiting Lecturers
ATTACH;FMTTYPE=image/jpeg:https://www.converse.edu/wp-content/uploads/2021/03/mfa-2021-publications-Converse-program.jpeg
ORGANIZER;CN="Converse University Creative Writing Program":MAILTO:rick.mulkey@converse.edu
GEO:34.956048;-81.918904
X-APPLE-STRUCTURED-LOCATION;VALUE=URI;X-ADDRESS=Converse University 580 East Main Street Spartanburg SC 29302 United States;X-APPLE-RADIUS=500;X-TITLE=580 East Main Street:geo:-81.918904,34.956048
END:VEVENT
BEGIN:VEVENT
DTSTART;TZID=America/New_York:20240328T174500
DTEND;TZID=America/New_York:20240328T174500
DTSTAMP:20260420T022614
CREATED:20240205T210104Z
LAST-MODIFIED:20240205T210104Z
UID:10001211-1711647900-1711647900@www.converse.edu
SUMMARY:Pens & Pages 2024 Writing Workshop
DESCRIPTION:“Pen on Fire: Strategies to Spark Your Writing Life” will help you ignite your creativity. Join us for this in-store workshop for writers at all levels. The workshop is led by Rick Mulkey\, author of six books and director of Creative Writing and the MFA at Converse University. Hosted by Truphae and Converse Low Residency MFA in Creative Writing. \nThis event is FREE and open to the public. \nSeating is limited to only 18 so reserve your seat here.
URL:https://www.converse.edu/event/pens-pages-2024-writing-workshop/
LOCATION:Truphae\, 550 South Main Street\, Suite 200\, Greenville\, SC\, 29601\, United States
CATEGORIES:General Events,Humanities
ATTACH;FMTTYPE=image/jpeg:https://www.converse.edu/wp-content/uploads/2022/10/MFA-pens-pages.jpg
ORGANIZER;CN="Converse University Creative Writing Program":MAILTO:rick.mulkey@converse.edu
END:VEVENT
END:VCALENDAR