BEGIN:VCALENDAR
VERSION:2.0
PRODID:-//Converse University - ECPv6.15.17.1//NONSGML v1.0//EN
CALSCALE:GREGORIAN
METHOD:PUBLISH
X-WR-CALNAME:Converse University
X-ORIGINAL-URL:https://www.converse.edu
X-WR-CALDESC:Events for Converse University
REFRESH-INTERVAL;VALUE=DURATION:PT1H
X-Robots-Tag:noindex
X-PUBLISHED-TTL:PT1H
BEGIN:VTIMEZONE
TZID:America/New_York
BEGIN:DAYLIGHT
TZOFFSETFROM:-0500
TZOFFSETTO:-0400
TZNAME:EDT
DTSTART:20250309T070000
END:DAYLIGHT
BEGIN:STANDARD
TZOFFSETFROM:-0400
TZOFFSETTO:-0500
TZNAME:EST
DTSTART:20251102T060000
END:STANDARD
BEGIN:DAYLIGHT
TZOFFSETFROM:-0500
TZOFFSETTO:-0400
TZNAME:EDT
DTSTART:20260308T070000
END:DAYLIGHT
BEGIN:STANDARD
TZOFFSETFROM:-0400
TZOFFSETTO:-0500
TZNAME:EST
DTSTART:20261101T060000
END:STANDARD
BEGIN:DAYLIGHT
TZOFFSETFROM:-0500
TZOFFSETTO:-0400
TZNAME:EDT
DTSTART:20270314T070000
END:DAYLIGHT
BEGIN:STANDARD
TZOFFSETFROM:-0400
TZOFFSETTO:-0500
TZNAME:EST
DTSTART:20271107T060000
END:STANDARD
END:VTIMEZONE
BEGIN:VEVENT
DTSTART;TZID=America/New_York:20260423T193000
DTEND;TZID=America/New_York:20260423T210000
DTSTAMP:20260419T103606
CREATED:20260408T192239Z
LAST-MODIFIED:20260408T192239Z
UID:10001581-1776972600-1776978000@www.converse.edu
SUMMARY:Converse Chorale: America at 250: A Work in Progress
DESCRIPTION:Like the Spartanburg Master Chorale’s spring concert on April 16\, 2026 Converse Chorale will present repertory especially chosen to honor and celebrate our nation’s 250th anniversary on April 23\, 2026 in Daniel Recital Hall. \nThe first half of the program will contain familiar patriotic pieces like “The Star-Spangled Banner\,” “Give Me Your Tired\, Your Poor\,” and “Battle Hymn of the Republic.” Less familiar pieces that will round out the first half include “Nancy Hanks” (Abraham Lincoln’s mother) and “Heaven Is My Home\,” an original composition based on a tune from Southern Harmony and composed by Converse Chorale’s accompanist\, Lance Bastian. \nSome of the pieces of the second half of the program recall those in America’s history who have been marginalized\, specifically black Americans and women; notably\, “Mother to Son\,” based on the powerful poem by Langston Hughes\, and “Rise Up\,” by Jake Runestad. \nThe concert will conclude with Z. Randall Stroope’s “Homeland\,” based on a tune by Gustav Holst with lyrics by Sir Cecil Spring-Rice. \nThis event is free to attend and is open to the public. \nView the livestream on Converse’s YouTube channel at the start of the event.
URL:https://www.converse.edu/event/converse-chorale-america-at-250-a-work-in-progress/
LOCATION:Daniel Recital Hall\, 580 East Main Street\, Spartanburg\, SC\, 29302\, United States
CATEGORIES:Cultural Events,Music
ATTACH;FMTTYPE=image/jpeg:https://www.converse.edu/wp-content/uploads/2026/04/Converse-Chorale-America.jpg
ORGANIZER;CN="Petrie School of Music":MAILTO:anna.neely@converse.edu
GEO:34.957844;-81.919712
X-APPLE-STRUCTURED-LOCATION;VALUE=URI;X-ADDRESS=Daniel Recital Hall 580 East Main Street Spartanburg SC 29302 United States;X-APPLE-RADIUS=500;X-TITLE=580 East Main Street:geo:-81.919712,34.957844
END:VEVENT
END:VCALENDAR